BEGIN:VCALENDAR
VERSION:2.0
PRODID:-//Savannah Music Festival - ECPv6.15.13.1//NONSGML v1.0//EN
CALSCALE:GREGORIAN
METHOD:PUBLISH
X-WR-CALNAME:Savannah Music Festival
X-ORIGINAL-URL:https://www.savannahmusicfestival.org
X-WR-CALDESC:Events for Savannah Music Festival
REFRESH-INTERVAL;VALUE=DURATION:PT1H
X-Robots-Tag:noindex
X-PUBLISHED-TTL:PT1H
BEGIN:VTIMEZONE
TZID:America/New_York
BEGIN:DAYLIGHT
TZOFFSETFROM:-0500
TZOFFSETTO:-0400
TZNAME:EDT
DTSTART:20240310T070000
END:DAYLIGHT
BEGIN:STANDARD
TZOFFSETFROM:-0400
TZOFFSETTO:-0500
TZNAME:EST
DTSTART:20241103T060000
END:STANDARD
BEGIN:DAYLIGHT
TZOFFSETFROM:-0500
TZOFFSETTO:-0400
TZNAME:EDT
DTSTART:20250309T070000
END:DAYLIGHT
BEGIN:STANDARD
TZOFFSETFROM:-0400
TZOFFSETTO:-0500
TZNAME:EST
DTSTART:20251102T060000
END:STANDARD
BEGIN:DAYLIGHT
TZOFFSETFROM:-0500
TZOFFSETTO:-0400
TZNAME:EDT
DTSTART:20260308T070000
END:DAYLIGHT
BEGIN:STANDARD
TZOFFSETFROM:-0400
TZOFFSETTO:-0500
TZNAME:EST
DTSTART:20261101T060000
END:STANDARD
END:VTIMEZONE
BEGIN:VEVENT
DTSTART;TZID=America/New_York:20250401T123000
DTEND;TZID=America/New_York:20250401T134500
DTSTAMP:20260422T233502
CREATED:20241122T151202Z
LAST-MODIFIED:20250305T221142Z
UID:10000063-1743510600-1743515100@www.savannahmusicfestival.org
SUMMARY:Simon Mulligan plays Bernstein
DESCRIPTION:British pianist Simon Mulligan is a prolific and versatile musician\, having performed with Yehudi Menuhin\, Lynn Harrell\, and Joshua Bell\, among many others. He also works in contemporary music\, film and jazz\, holds the Fellowship of the Royal Academy of Music\, and is an Artist-in-Residence at the University of Maryland. In this Savannah Music Festival solo debut\, Mulligan plays his own transcriptions and improvisations of celebrated works by Leonard Bernstein from West Side Story\, On the Town\, Wonderful Town\, and Candide. Simon Mulligan is a Steinway artist. \n\n\n\n\nThis performance is sponsored by Diana Lee Langer Jones and Dayle & Aaron LevyThis performance is sponsored in part by Joseph & Susan Dockman and Steinway & SonsPiano by Steinway & Sons
URL:https://www.savannahmusicfestival.org/event/simon-mulligan-play-bernstein/
LOCATION:Trinity United Methodist Church\, 127 Barnard Street\, Savannah\, GA\, 31401\, United States
CATEGORIES:Classical,General Admission
ATTACH;FMTTYPE=image/jpeg:https://www.savannahmusicfestival.org/wp-content/uploads/2024/11/SimonMulligan.jpg
END:VEVENT
BEGIN:VEVENT
DTSTART;TZID=America/New_York:20250402T180000
DTEND;TZID=America/New_York:20250402T194500
DTSTAMP:20260422T233502
CREATED:20241122T151202Z
LAST-MODIFIED:20250305T221854Z
UID:10000059-1743616800-1743623100@www.savannahmusicfestival.org
SUMMARY:Philip Dukes & Friends II: Gems
DESCRIPTION:“Gems” of repertoire and “gems” of artists come together to deliver a glittering program of variety and some more light-hearted presentations—with one or two hidden talents on display! Philip Dukes and his chamber musician friends welcome a new artist to the chamber group: Grace Park on violin. It will be an evening to remember! \n\n\n\nFranz Schubert Fantasie in F minor\, D. 940 (four hands)Alan Ridout Ferdinand and the BullRobert Schumann Fantasiestücke\, Opus 73Walter Leigh Romance for Piano Quintet–INTERMISSION–Gabriel Fauré Dolly Suite\, Opus 56 (four hands)Camille Saint-Saëns Introduction and Rondo Capriccioso in A minor\, Opus 28Samuel Barber Adagio for Strings\, Opus 11Leroy Anderson Fun Favorites (arr. William Zinn):SerenataForgotten DreamsBelle of the BallEncore to follow \n\n\n\n\n\n\n\n\n\n\n\n\n\n\n\n\n\n\nFunding for Associate Artistic Director Philip Dukes is provided by Thomas V. & Susan G. Reilly.This performance is sponsored by Dayle & Aaron Levy and Tom & Ruth McMullinThis performance is sponsored in part by Mr. & Mrs. John TuckerPiano by Steinway & Sons
URL:https://www.savannahmusicfestival.org/event/philip-dukes-friends-ii-gems/
LOCATION:Trinity United Methodist Church\, 127 Barnard Street\, Savannah\, GA\, 31401\, United States
CATEGORIES:Classical,General Admission
ATTACH;FMTTYPE=image/jpeg:https://www.savannahmusicfestival.org/wp-content/uploads/2024/11/pdukes2.jpg
END:VEVENT
BEGIN:VEVENT
DTSTART;TZID=America/New_York:20250403T180000
DTEND;TZID=America/New_York:20250403T191500
DTSTAMP:20260422T233502
CREATED:20241122T151201Z
LAST-MODIFIED:20250306T175149Z
UID:10000053-1743703200-1743707700@www.savannahmusicfestival.org
SUMMARY:American Opera Icon
DESCRIPTION:Celebrating Sherrill Milnes on the 60th anniversary of his Metropolitan Opera Debut\n\n\n\n\n\n\n\nJoin American baritone Sherrill Milnes\, who shares stories about the debut that launched him into international stardom and his life as the most recorded American opera singer of his time. Through exciting live performances from Milnes’ colleagues and mentees\, along with special video presentations\, see a storied opera career through the eyes of a living legend. \n\n\n\nPresented in partnership with Savannah VOICE Festival \n\n\n\n\n\n\n\n\n\n\n\n\n\n\n\n\n\n\nPerformances in District Live are made possible through support from Plant Riverside District.This performance is sponsored by Visit SavannahThis performance is sponsored in part by Margie & B.H. Levy\, Jr. and Larry Pike Family Charitable FundPartial support provided by Toby W. HollenbergPiano by Steinway & Sons
URL:https://www.savannahmusicfestival.org/event/sherrill-milnes-american-opera-icon/
CATEGORIES:Classical,General Admission
ATTACH;FMTTYPE=image/jpeg:https://www.savannahmusicfestival.org/wp-content/uploads/2024/11/AmericanOperaIcon.jpg
END:VEVENT
BEGIN:VEVENT
DTSTART;TZID=America/New_York:20250404T180000
DTEND;TZID=America/New_York:20250404T201500
DTSTAMP:20260422T233502
CREATED:20241122T151200Z
LAST-MODIFIED:20250306T182804Z
UID:10000021-1743789600-1743797700@www.savannahmusicfestival.org
SUMMARY:Philip Dukes & Friends III: French Tragedy
DESCRIPTION:What series would be complete without dramatic and tragic elements? In this concert\, Philip Dukes and Friends feature three incredible French masters who\, for different reasons\, suffered through various addictions or afflictions: Gabriel Fauré’s chain-smoking contributed to his death\, alcoholism killed Erik Satie\, and Ernest Chausson’s mental health issues resulted in an apparent suicide when the brakes on his penny farthing “failed” on a steep hill and he hit a brick wall. Be sure to bring a handkerchief! \n\n\n\nAmédée-Ernest Chausson Concerto for Violin\, Piano and String Quartet\, Opus 21– INTERMISSION –Erik Satie Trois Gymnopédies Gabriel Fauré Piano Quartet No. 2 in G minor\, Opus 45 \n\n\n\n\n\n\n\n\n\n\n\n\n\n\n\n\n\n\nFunding for Associate Artistic Director Philip Dukes is provided by Thomas V. & Susan G. Reilly.This performance is sponsored by Diana Lee Langer JonesThis performance is sponsored in part by Regina & Rick RoneyPartial support is provided by Linda McWhorterPiano by Steinway & Sons
URL:https://www.savannahmusicfestival.org/event/philip-dukes-friends-iii-french-tragedy/
LOCATION:Trinity United Methodist Church\, 127 Barnard Street\, Savannah\, GA\, 31401\, United States
CATEGORIES:Classical,General Admission
ATTACH;FMTTYPE=image/jpeg:https://www.savannahmusicfestival.org/wp-content/uploads/2024/11/PhilipDukes3.jpg
END:VEVENT
BEGIN:VEVENT
DTSTART;TZID=America/New_York:20250405T150000
DTEND;TZID=America/New_York:20250405T161500
DTSTAMP:20260422T233502
CREATED:20241122T151200Z
LAST-MODIFIED:20250306T181052Z
UID:10000015-1743865200-1743869700@www.savannahmusicfestival.org
SUMMARY:Sebastian Knauer: Hollywood
DESCRIPTION:Following his acclaimed projects Überbach\, This Is (Not) Beethoven\, and The Mozart / Nyman Concert\, Savannah Music Festival favorite Sebastian Knauer’s artistic journey has now taken him to Hollywood. His latest album\, Hollywood\, showcases the work of American composers such as George Gershwin\, Aaron Copland\, Alex North\, Elmer Bernstein\, Bernard Herrmann\, and Jerry Goldsmith—all of whom share three common threads: they hail from the USA\, blend classical composition with film music\, and are connected to Alfred Newman\, a pioneering figure of the Hollywood sound. This special festival performance will feature Knauer\, a Steinway artist\, on piano\, accompanied by a string quintet. \n\n\n\n\n\n\n\n\n\n\n\n\n\n\n\n\n\n\n\n\n\n\nThis performance is sponsored by Ron & Susan WhitakerThis performance is sponsored in part by Tom & Ruth McMullinPiano by Steinway & Sons
URL:https://www.savannahmusicfestival.org/event/sebastian-knauer-hollywood/
LOCATION:Trinity United Methodist Church\, 127 Barnard Street\, Savannah\, GA\, 31401\, United States
CATEGORIES:Classical,General Admission
ATTACH;FMTTYPE=image/jpeg:https://www.savannahmusicfestival.org/wp-content/uploads/2024/11/SebastianKnauer.jpg
END:VEVENT
BEGIN:VEVENT
DTSTART;TZID=America/New_York:20250406T170000
DTEND;TZID=America/New_York:20250406T181500
DTSTAMP:20260422T233502
CREATED:20241122T151159Z
LAST-MODIFIED:20250306T182541Z
UID:10000009-1743958800-1743963300@www.savannahmusicfestival.org
SUMMARY:Philip Dukes & Friends IV: Locomotive Man
DESCRIPTION:Motion and music have always been synonymous\, as was Dvořák and his obsession with trains—hence the title “The Locomotive Man”—and his love of cigars and beer. Philip Dukes and his chamber musician friends present some of Dvořák’s best-loved chamber works\, which include the evergreen “American” String Quartet and the beguiling Piano Quartet in E-Flat. This is a classic and pure chamber music program delivered by world-renowned artists.  \n\n\n\nAntonín Dvořák String Quartet No. 12\, Opus 96\, “American”Four Romantic Pieces\, Opus 75– INTERMISSION –Antonín DvořákPiano Quartet No. 2 in E-flat Major\, Opus 87 \n\n\n\n\n\n\n\n\n\n\n\n\n\n\n\n\n\n\nFunding for Associate Artistic Director Philip Dukes is provided by Thomas V. & Susan G. Reilly.This performance is sponsored in part by Tom & Ruth McMullin and Dave & Sylvaine NeisesPartial support provided by Obby TapleyPiano by Steinway & Sons
URL:https://www.savannahmusicfestival.org/event/philip-dukes-friends-iv-locomotive-man/
LOCATION:Trinity United Methodist Church\, 127 Barnard Street\, Savannah\, GA\, 31401\, United States
CATEGORIES:Classical,General Admission
ATTACH;FMTTYPE=image/jpeg:https://www.savannahmusicfestival.org/wp-content/uploads/2024/11/PhilipDukes4.jpg
END:VEVENT
BEGIN:VEVENT
DTSTART;TZID=America/New_York:20250409T180000
DTEND;TZID=America/New_York:20250409T195000
DTSTAMP:20260422T233502
CREATED:20241122T151158Z
LAST-MODIFIED:20250306T183210Z
UID:10000004-1744221600-1744228200@www.savannahmusicfestival.org
SUMMARY:Danish String Quartet
DESCRIPTION:The Grammy-nominated Danish String Quartet continues to assert their preeminence among the world’s finest string quartets. Celebrated for their “intense blend\, extreme dynamic variation (in which they seem glued together)\, perfect intonation even on harmonics\, and constant vitality and flow” (Gramophone) and renowned for the palpable joy they exude in music-making\, the Danish String Quartet has become one of today’s most in-demand classical quartets\, performing to sold-out concert halls around the world. \n\n\n\nCaroline Shaw Entr’acteBenjamin Britten 3 DivertimentiDimitri Shostakovich String Quartet No. 4 in D major\, Op. 83– INTERMISSION –Felix Mendelssohn String Quartet in A minor\, Op. 13 \n\n\n\n\n\n\n\n\n\n\n\n\n\n\n\n\n\n\n\n\n\n\nThis performance is sponsored by Dayle & Aaron Levy and Ron & Susan WhitakerThis performance is sponsored in part by Larry Pike Family Charitable Fund
URL:https://www.savannahmusicfestival.org/event/danish-string-quartet/
LOCATION:Trinity United Methodist Church\, 127 Barnard Street\, Savannah\, GA\, 31401\, United States
CATEGORIES:Classical,General Admission
ATTACH;FMTTYPE=image/jpeg:https://www.savannahmusicfestival.org/wp-content/uploads/2024/11/DanishStringQuartet.jpg
END:VEVENT
END:VCALENDAR