BEGIN:VCALENDAR
VERSION:2.0
PRODID:-//Savannah Music Festival - ECPv6.15.13.1//NONSGML v1.0//EN
CALSCALE:GREGORIAN
METHOD:PUBLISH
X-ORIGINAL-URL:https://www.savannahmusicfestival.org
X-WR-CALDESC:Events for Savannah Music Festival
REFRESH-INTERVAL;VALUE=DURATION:PT1H
X-Robots-Tag:noindex
X-PUBLISHED-TTL:PT1H
BEGIN:VTIMEZONE
TZID:America/New_York
BEGIN:DAYLIGHT
TZOFFSETFROM:-0500
TZOFFSETTO:-0400
TZNAME:EDT
DTSTART:20240310T070000
END:DAYLIGHT
BEGIN:STANDARD
TZOFFSETFROM:-0400
TZOFFSETTO:-0500
TZNAME:EST
DTSTART:20241103T060000
END:STANDARD
BEGIN:DAYLIGHT
TZOFFSETFROM:-0500
TZOFFSETTO:-0400
TZNAME:EDT
DTSTART:20250309T070000
END:DAYLIGHT
BEGIN:STANDARD
TZOFFSETFROM:-0400
TZOFFSETTO:-0500
TZNAME:EST
DTSTART:20251102T060000
END:STANDARD
BEGIN:DAYLIGHT
TZOFFSETFROM:-0500
TZOFFSETTO:-0400
TZNAME:EDT
DTSTART:20260308T070000
END:DAYLIGHT
BEGIN:STANDARD
TZOFFSETFROM:-0400
TZOFFSETTO:-0500
TZNAME:EST
DTSTART:20261101T060000
END:STANDARD
END:VTIMEZONE
BEGIN:VEVENT
DTSTART;TZID=America/New_York:20250327T180000
DTEND;TZID=America/New_York:20250327T193000
DTSTAMP:20260423T011420
CREATED:20241122T151205Z
LAST-MODIFIED:20250310T210955Z
UID:10000008-1743098400-1743103800@www.savannahmusicfestival.org
SUMMARY:Julia Fischer & Jan Lisiecki
DESCRIPTION:One of the world’s leading violinists\, Julia Fischer is a versatile musician also known for her extraordinary abilities as a concert pianist\, a chamber musician and a music teacher. The first prize at the international Yehudi Menuhin Competition in 1995 was one of the milestones in her early career. She has since performed with top orchestras worldwide and frequently collaborates with renowned conductors. In her Savannah Music Festival debut\, Fischer is joined by Canadian pianist Jan Lisiecki\, who made his Savannah Music Festival recital debut in 2017. Lisiecki looks back on a career spanning a decade and a half on the world’s greatest stages. He also works closely with the foremost conductors and orchestras of our time\, performing over a hundred concerts a year. This unique duo program will be presented only 15 times in major halls and festivals across North America and Europe. This opening night festival concert is not to be missed.  \n\n\n\nWolfgang Amadeus Mozart Violin Sonata No. 26 in B-flat Major\, K. 378Ludwig van Beethoven Violin Sonata No. 5 in F Major\, Opus 24\, “Spring“–INTERMISSION–Robert Schumann Violin Sonata No. 2 in D minor\,  Opus 121 \n\n\n\n\n\n\n\n\n\n\n\n\n\n\n\n\n\n\n\n\n\n\nThis performance is sponsored by Ron & Susan WhitakerThis performance is sponsored in part by Jackie & Stephen Rabinowitz and Nina & Bill WeilPartial support provided by Marti & Austin SullivanPiano by Steinway & Sons
URL:https://www.savannahmusicfestival.org/event/julia-fischer-jan-lisiecki/
LOCATION:Trinity United Methodist Church\, 127 Barnard Street\, Savannah\, GA\, 31401\, United States
CATEGORIES:Classical,General Admission
ATTACH;FMTTYPE=image/jpeg:https://www.savannahmusicfestival.org/wp-content/uploads/2024/11/JuliaFischer-JanLisieki.jpg
END:VEVENT
BEGIN:VEVENT
DTSTART;TZID=America/New_York:20250328T180000
DTEND;TZID=America/New_York:20250328T190500
DTSTAMP:20260423T011420
CREATED:20241122T151204Z
LAST-MODIFIED:20250305T213646Z
UID:10000043-1743184800-1743188700@www.savannahmusicfestival.org
SUMMARY:Michelle Cann\, piano
DESCRIPTION:Lauded as “exquisite” by The Philadelphia Inquirer and “a pianist of sterling artistry” by Gramophone\, Michelle Cann is one of the most sought-after pianists of her generation and a leading interpreter of the music of Florence Price. Recent engagements include appearances with the Chicago Symphony Orchestra\, The Cleveland Orchestra\, The Philadelphia Orchestra\, and the Los Angeles Philharmonic. Her honors include the Sphinx Medal of Excellence and the Andrew Wolf Chamber Music Award. A committed educator\, she joined the Curtis Institute of Music piano faculty in 2020 as the inaugural Eleanor Sokoloff Chair in Piano Studies. In 2024\, she was named the inaugural Christel DeHaan Artistic Partner of the American Pianists Association\, responsible for artistic oversight of the American Pianists Awards. This is Michelle Cann’s Savannah Music Festival debut.  \n\n\n\nFlorence Price Fantasie Nègre Nos. 1\, 2\, 4 Margaret Bonds Spiritual SuiteBetty Jackson King Four Seasonal SketchesNora Holt Negro Dance Opus 25\, No. 1 Hazel ScottImprovisation on Rachmaninov’s Prelude in C-sharp minorImprovisation on Liszt’s Hungarian Rhapsody No. 2 \n\n\n\n\n\n\n\n\n\n\n\n\n\n\n\n\n\n\n\n\n\n\nThis performance is sponsored by Ron & Susan WhitakerThis performance is sponsored in part by Becky & Bill KeightleyPartial support provided by Kelley & Neil Berman and Tom & Sue BoardmanPiano by Steinway & Sons
URL:https://www.savannahmusicfestival.org/event/michelle-cann-piano/
LOCATION:Trinity United Methodist Church\, 127 Barnard Street\, Savannah\, GA\, 31401\, United States
CATEGORIES:Classical,General Admission
ATTACH;FMTTYPE=image/jpeg:https://www.savannahmusicfestival.org/wp-content/uploads/2024/11/MichelleCann.jpg
END:VEVENT
BEGIN:VEVENT
DTSTART;TZID=America/New_York:20250330T150000
DTEND;TZID=America/New_York:20250330T170000
DTSTAMP:20260423T011420
CREATED:20241122T151203Z
LAST-MODIFIED:20250305T220629Z
UID:10000032-1743346800-1743354000@www.savannahmusicfestival.org
SUMMARY:Philip Dukes & Friends I: Mozart by Candlelight
DESCRIPTION:An unforgettable concert experience\, unlike any we’ve presented at the Savannah Music Festival! A fabulous and extended evening featuring some of Wolfgang Amadeus Mozart’s most popular compositions and readings from his letters. Step back in time and look forward to Savannah Music Festival chamber musicians as you have never seen them before—in 18th-century costume! \n\n\n\nWolfgang Amadeus MozartPiano Quartet No. 1 in G minor\, K. 478Violin Sonata No. 21 in E minor\, K. 304–INTERMISSION–Wolfgang Amadeus MozartDivertimento No. 1 in D Major\, K. 136Eine Kleine Nachtmusik\, K. 525 \n\n\n\nEncore to follow \n\n\n\n\n\n\n\n\n\n\n\n\n\n\n\n\n\n\nPerformances in the Metal Building are made possible through support by Charles & Rosalie Morris.Funding for Associate Artistic Director Philip Dukes is provided by Thomas V. & Susan G. Reilly.This performance is sponsored by Critz\, your dealership for Mercedes-Benz in Savannah and Rhegan White-Clemm & Timothy ClemmPartial support provided by Carole & Gene Brogdon and Phillipa S. & James L. MontagPiano by Steinway & Sons
URL:https://www.savannahmusicfestival.org/event/philip-dukes-friends-i-mozart-by-candlelight/
CATEGORIES:Classical,General Admission
ATTACH;FMTTYPE=image/jpeg:https://www.savannahmusicfestival.org/wp-content/uploads/2024/11/mozart.jpg
END:VEVENT
END:VCALENDAR