BEGIN:VCALENDAR
VERSION:2.0
PRODID:-//Savannah Music Festival - ECPv6.15.13.1//NONSGML v1.0//EN
CALSCALE:GREGORIAN
METHOD:PUBLISH
X-WR-CALNAME:Savannah Music Festival
X-ORIGINAL-URL:https://www.savannahmusicfestival.org
X-WR-CALDESC:Events for Savannah Music Festival
REFRESH-INTERVAL;VALUE=DURATION:PT1H
X-Robots-Tag:noindex
X-PUBLISHED-TTL:PT1H
BEGIN:VTIMEZONE
TZID:America/New_York
BEGIN:DAYLIGHT
TZOFFSETFROM:-0500
TZOFFSETTO:-0400
TZNAME:EDT
DTSTART:20250309T070000
END:DAYLIGHT
BEGIN:STANDARD
TZOFFSETFROM:-0400
TZOFFSETTO:-0500
TZNAME:EST
DTSTART:20251102T060000
END:STANDARD
BEGIN:DAYLIGHT
TZOFFSETFROM:-0500
TZOFFSETTO:-0400
TZNAME:EDT
DTSTART:20260308T070000
END:DAYLIGHT
BEGIN:STANDARD
TZOFFSETFROM:-0400
TZOFFSETTO:-0500
TZNAME:EST
DTSTART:20261101T060000
END:STANDARD
BEGIN:DAYLIGHT
TZOFFSETFROM:-0500
TZOFFSETTO:-0400
TZNAME:EDT
DTSTART:20270314T070000
END:DAYLIGHT
BEGIN:STANDARD
TZOFFSETFROM:-0400
TZOFFSETTO:-0500
TZNAME:EST
DTSTART:20271107T060000
END:STANDARD
END:VTIMEZONE
BEGIN:VEVENT
DTSTART;TZID=America/New_York:20260327T160000
DTEND;TZID=America/New_York:20260404T210000
DTSTAMP:20260420T024001
CREATED:20251124T155524Z
LAST-MODIFIED:20251124T155528Z
UID:10000144-1774627200-1775336400@www.savannahmusicfestival.org
SUMMARY:VIP Weekender Wristbands
DESCRIPTION:2-Day Wristbands: $250 \n\n\n\n3-Day Wristbands: $350 includes access to an additional hospitality zone \n\n\n\n6-Day Wristbands: $850 includes all above perks + SMF swag bag and drink tickets at participating venues \n\n\n\n\nCLICK HERE FOR MORE INFORMATION
URL:https://www.savannahmusicfestival.org/event/vip-weekender-wristbands/
LOCATION:ga
CATEGORIES:Explorer Pass,Jazz
ATTACH;FMTTYPE=image/png:https://www.savannahmusicfestival.org/wp-content/uploads/2025/11/Screenshot-2025-11-24-at-10.34.45-AM.png
END:VEVENT
BEGIN:VEVENT
DTSTART;TZID=America/New_York:20260404T123000
DTEND;TZID=America/New_York:20260404T123000
DTSTAMP:20260420T024001
CREATED:20251123T145110Z
LAST-MODIFIED:20260218T204221Z
UID:10000094-1775305800-1775305800@www.savannahmusicfestival.org
SUMMARY:NOON30: Le Vent du Nord
DESCRIPTION:Le Vent du Nord is an award-winning\, internationally acclaimed band at the forefront of Québec’s vibrant Francophone folk scene. Blending traditional roots with original compositions\, their powerful\, rhythm-driven sound draws from Celtic influences and diverse global traditions. Since their debut in 2002\, they’ve performed over 2\,200 concerts across four continents\, released 12 albums\, and earned numerous honors\, including two Junos\, a Félix\, a Grand Prix du Disque Charles Cros\, and a Canadian Folk Music Award. Renowned for their dynamic live performances and inventive collaborations with artists like The Chieftains\, Breabach\, and Constantinople\, the five musicians continually redefine folk music\, fusing tradition with contemporary flair to create a sound that is both timeless and boldly modern. This is their second SMF appearance\, following a 2017 debut.
URL:https://www.savannahmusicfestival.org/event/noon30-le-vent-du-nord/
LOCATION:Kehoe Iron Works\, 660 E Broughton St\, Savannah\, ga\, 31401\, United States
CATEGORIES:Dancing / Standing,Explorer Pass,Family-Friendly,General Admission,Global Roots,Wristband Eligible
ATTACH;FMTTYPE=image/png:https://www.savannahmusicfestival.org/wp-content/uploads/2025/11/Copy-of-Tinsley-Ellis-DL-Event.png
END:VEVENT
BEGIN:VEVENT
DTSTART;TZID=America/New_York:20260404T164500
DTEND;TZID=America/New_York:20260404T164500
DTSTAMP:20260420T024001
CREATED:20260306T164804Z
LAST-MODIFIED:20260306T164807Z
UID:10000150-1775321100-1775321100@www.savannahmusicfestival.org
SUMMARY:SMF Encore: Rockin’ Scott & the Hot Shots
DESCRIPTION:Closing Weekend Pre-Party for Dwayne Dopsie & the Zydeco Hellraisers / Sally Baby’s Silver Dollars \n\n\n\nFor more than half a century\, Scott Alexander has been playing and singing blues and roots rock ’n’ roll\, seasoned with New Orleans R&B. Over the years\, he has shared the stage with artists such as Taj Mahal\, Clarence “Gatemouth” Brown\, Roomful of Blues\, and Chuck Leavell\, and appeared on early recordings by Tinsley Ellis and the Heartfixers. In the 1980s\, Scott founded the Night Flight All Stars\, which later evolved into the Savannah All Stars. Today\, he reunites with veterans from that original group—bassist Mike Perry and drummer Jesse Jordan—to form Rockin’ Scott & the Hot Shots. Together they serve up a lively musical gumbo\, joined for this special SMF appearance by guitarist Gordon Perry.
URL:https://www.savannahmusicfestival.org/event/smf-encore-rockin-scott-the-hot-shots/
LOCATION:Kehoe Iron Works\, 660 E Broughton St\, Savannah\, ga\, 31401\, United States
CATEGORIES:Explorer Pass,General Admission,Jazz
ATTACH;FMTTYPE=image/jpeg:https://www.savannahmusicfestival.org/wp-content/uploads/2026/03/Rockin-Scott-and-the-Hot-Shots-scaled.jpg
END:VEVENT
BEGIN:VEVENT
DTSTART;TZID=America/New_York:20260404T180000
DTEND;TZID=America/New_York:20260404T180000
DTSTAMP:20260420T024001
CREATED:20251123T145110Z
LAST-MODIFIED:20260314T130907Z
UID:10000139-1775325600-1775325600@www.savannahmusicfestival.org
SUMMARY:Philip Dukes and Friends IV: Schumann & Dvorak
DESCRIPTION:Robert Schumann Piano Quartet in E-Flat Major\, Opus 47 \n\n\n\nAntonín Dvořák Piano Quintet No. 2 in A Major\, Opus 81 \n\n\n\nIn the series finale\, we hear music from more Romantic Era geniuses\, namely Schumann and Dvorak. \n\n\n\nThe concert begins with Schumann’s popular Piano Quartet in E-Flat (another ravishing slow movement to savor)\, before closing with Antonin Dvorak’s barnstorming and celebrated Piano Quintet in A Major. Altogether a rousing and joyous conclusion. \n\n\n\n\nFunding for Associate Artistic Director Philip Dukes is provided by Thomas V. & Susan G. Reilly. \n\n\n\nThis performance is sponsored by Ron & Susan WhitakerThis performance is sponsored in part by Margie & B.H. Levy\, Jr.\, Larry Pike Family Charitable FundPartial support provided by Phillipa S. & James L. MontagPiano by Steinway & Sons
URL:https://www.savannahmusicfestival.org/event/philip-dukes-and-friends-iv-schumann-dvorak/
LOCATION:Neises Auditorium at Telfair’s Jepson Center\, 207 W York St\, Savannah\, Georgia\, 31401
CATEGORIES:Classical,Explorer Pass,General Admission,Wristband Eligible
ATTACH;FMTTYPE=image/png:https://www.savannahmusicfestival.org/wp-content/uploads/2025/11/Philip-IV.png
END:VEVENT
BEGIN:VEVENT
DTSTART;TZID=America/New_York:20260404T180000
DTEND;TZID=America/New_York:20260404T180000
DTSTAMP:20260420T024001
CREATED:20251123T145110Z
LAST-MODIFIED:20260314T131007Z
UID:10000140-1775325600-1775325600@www.savannahmusicfestival.org
SUMMARY:Dwayne Dopsie & the Zydeco Hellraisers / Sally Baby’s Silver Dollars
DESCRIPTION:#SMF2026 CLOSING PARTY! \n\n\n\nDwayne “Dopsie” Rubin is a Louisiana native from one of the most influential zydeco families\, and has carved his own energetic and soulful path in modern zydeco music. Teaching himself accordion by studying videos of his father and Clifton Chenier\, Dwayne developed a fiery style that blends tradition with innovation. At 19\, he formed Dwayne Dopsie and the Zydeco Hellraisers\, a powerhouse band whose members together bring over a century of experience. As a singer\, songwriter\, and accordionist\, Dwayne writes both lyrics and music\, crafting songs rich with blues and old-time zydeco flair. His passionate performances radiate talent\, energy\, and authenticity. \n\n\n\n\nThis performance is sponsored by Critz\, your dealership for Mercedes-Benz in Savannah \n\n\n\n\n\n\n\n\n\n\n\n\n\n\n\n\n\n\n\n\n\n\nSally Baby’s Silver Dollars is a local gem of the New Orleans music scene\, and is quickly gaining devoted fans from far and wide. Seamlessly blending the sounds of the early Creole jazz bands with New Orleans R&B\, Second Line music\, calypso\, and their own ethereal\, mystical\, and magical original music\, their live shows always leave audiences wanting more. \n\n\n\n\n\n\n\n\n\n\n\n\n\n\nLISTEN ON BANDCAMP
URL:https://www.savannahmusicfestival.org/event/dwayne-dopsie-the-zydeco-hellraisers-sally-babys-silver-dollars/
LOCATION:Kehoe Iron Works\, 660 E Broughton St\, Savannah\, ga\, 31401\, United States
CATEGORIES:American Roots,Explorer Pass,Family-Friendly,General Admission,Wristband Eligible
ATTACH;FMTTYPE=image/png:https://www.savannahmusicfestival.org/wp-content/uploads/2025/11/Dwayne-and-Sally-Babys.png
END:VEVENT
BEGIN:VEVENT
DTSTART;TZID=America/New_York:20260404T193000
DTEND;TZID=America/New_York:20260404T193000
DTSTAMP:20260420T024001
CREATED:20251123T145109Z
LAST-MODIFIED:20260314T125930Z
UID:10000095-1775331000-1775331000@www.savannahmusicfestival.org
SUMMARY:Dan Tyminski Band
DESCRIPTION:Dan Tyminski was six years old when his parents began taking him to fiddle contests\, square dances\, and bluegrass festivals across New England. For a young musician who would later become one of the biggest names in modern-day bluegrass\, those early experiences were life-changing. His voice famously accompanies George Clooney’s performance of the Stanley Brothers’ classic song “I Am A Man of Constant Sorrow” in the film Oh Brother\, Where Art Thou?\, and his diverse solo projects and years of work with Alison Krauss and Union Station have yielded troves of award-winning music. In recent years\, Tyminski’s live shows with the Dan Tyminski Band have become bluegrass fan favorites and are regularly on the must-see lists among music fans of any genre. Don’t miss this SMF debut! \n\n\n\n\nThis performance is sponsored in part by Savannah/Hilton Head International AirportPartial support provided by Charlie Pohl & Dr. Janice Nevin
URL:https://www.savannahmusicfestival.org/event/dan-tyminski-band/
LOCATION:Ships of the Sea\, 41 Martin Luther King Jr Blvd\, Savannah\, GA\, 31401\, United States
CATEGORIES:American Roots,Explorer Pass,General Admission,Wristband Eligible
ATTACH;FMTTYPE=image/jpeg:https://www.savannahmusicfestival.org/wp-content/uploads/2026/04/Dany-Tyminski.jpg
END:VEVENT
BEGIN:VEVENT
DTSTART;TZID=America/New_York:20260404T213000
DTEND;TZID=America/New_York:20260404T213000
DTSTAMP:20260420T024001
CREATED:20251123T145109Z
LAST-MODIFIED:20260314T125612Z
UID:10000141-1775338200-1775338200@www.savannahmusicfestival.org
SUMMARY:Dwayne Dopsie & the Zydeco Hellraisers / Sally Baby’s Silver Dollars
DESCRIPTION:#SMF2026 CLOSING PARTY! \n\n\n\nDwayne “Dopsie” Rubin is a Louisiana native from one of the most influential zydeco families\, and has carved his own energetic and soulful path in modern zydeco music. Teaching himself accordion by studying videos of his father and Clifton Chenier\, Dwayne developed a fiery style that blends tradition with innovation. At 19\, he formed Dwayne Dopsie and the Zydeco Hellraisers\, a powerhouse band whose members together bring over a century of experience. As a singer\, songwriter\, and accordionist\, Dwayne writes both lyrics and music\, crafting songs rich with blues and old-time zydeco flair. His passionate performances radiate talent\, energy\, and authenticity. \n\n\n\n\nThis performance is sponsored by Critz\, your dealership for Mercedes-Benz in Savannah \n\n\n\n\n\n\n\n\n\n\n\n\n\n\n\n\n\n\n\n\n\n\nSally Baby’s Silver Dollars is a local gem of the New Orleans music scene\, and is quickly gaining devoted fans from far and wide. Seamlessly blending the sounds of the early Creole jazz bands with New Orleans R&B\, Second Line music\, calypso\, and their own ethereal\, mystical\, and magical original music\, their live shows always leave audiences wanting more. \n\n\n\n\n\n\n\n\n\n\n\n\n\n\nLISTEN ON BANDCAMP
URL:https://www.savannahmusicfestival.org/event/dwayne-dopsie-the-zydeco-hellraisers-sally-babys-silver-dollars-2/
LOCATION:Kehoe Iron Works\, 660 E Broughton St\, Savannah\, ga\, 31401\, United States
CATEGORIES:American Roots,Explorer Pass,General Admission,Wristband Eligible
ATTACH;FMTTYPE=image/png:https://www.savannahmusicfestival.org/wp-content/uploads/2025/11/Dwayne-and-Sally-Babys.png
END:VEVENT
END:VCALENDAR