BEGIN:VCALENDAR
VERSION:2.0
PRODID:-//Savannah Music Festival - ECPv6.15.13.1//NONSGML v1.0//EN
CALSCALE:GREGORIAN
METHOD:PUBLISH
X-ORIGINAL-URL:https://www.savannahmusicfestival.org
X-WR-CALDESC:Events for Savannah Music Festival
REFRESH-INTERVAL;VALUE=DURATION:PT1H
X-Robots-Tag:noindex
X-PUBLISHED-TTL:PT1H
BEGIN:VTIMEZONE
TZID:America/New_York
BEGIN:DAYLIGHT
TZOFFSETFROM:-0500
TZOFFSETTO:-0400
TZNAME:EDT
DTSTART:20250309T070000
END:DAYLIGHT
BEGIN:STANDARD
TZOFFSETFROM:-0400
TZOFFSETTO:-0500
TZNAME:EST
DTSTART:20251102T060000
END:STANDARD
BEGIN:DAYLIGHT
TZOFFSETFROM:-0500
TZOFFSETTO:-0400
TZNAME:EDT
DTSTART:20260308T070000
END:DAYLIGHT
BEGIN:STANDARD
TZOFFSETFROM:-0400
TZOFFSETTO:-0500
TZNAME:EST
DTSTART:20261101T060000
END:STANDARD
BEGIN:DAYLIGHT
TZOFFSETFROM:-0500
TZOFFSETTO:-0400
TZNAME:EDT
DTSTART:20270314T070000
END:DAYLIGHT
BEGIN:STANDARD
TZOFFSETFROM:-0400
TZOFFSETTO:-0500
TZNAME:EST
DTSTART:20271107T060000
END:STANDARD
END:VTIMEZONE
BEGIN:VEVENT
DTSTART;TZID=America/New_York:20260327T160000
DTEND;TZID=America/New_York:20260404T210000
DTSTAMP:20260420T024224
CREATED:20251124T155524Z
LAST-MODIFIED:20251124T155528Z
UID:10000144-1774627200-1775336400@www.savannahmusicfestival.org
SUMMARY:VIP Weekender Wristbands
DESCRIPTION:2-Day Wristbands: $250 \n\n\n\n3-Day Wristbands: $350 includes access to an additional hospitality zone \n\n\n\n6-Day Wristbands: $850 includes all above perks + SMF swag bag and drink tickets at participating venues \n\n\n\n\nCLICK HERE FOR MORE INFORMATION
URL:https://www.savannahmusicfestival.org/event/vip-weekender-wristbands/
LOCATION:ga
CATEGORIES:Explorer Pass,Jazz
ATTACH;FMTTYPE=image/png:https://www.savannahmusicfestival.org/wp-content/uploads/2025/11/Screenshot-2025-11-24-at-10.34.45-AM.png
END:VEVENT
BEGIN:VEVENT
DTSTART;TZID=America/New_York:20260403T123000
DTEND;TZID=America/New_York:20260403T123000
DTSTAMP:20260420T024224
CREATED:20251123T145110Z
LAST-MODIFIED:20260314T133101Z
UID:10000134-1775219400-1775219400@www.savannahmusicfestival.org
SUMMARY:NOON30: Darrell Scott & Rob Ickes
DESCRIPTION:The Darrell Scott String Band is a bluegrass/folk band featuring Darrell Scott on dobro\, piano\, and guitar\, Bryn Davies on upright bass\, Matt Flinner on mandolin and banjo\, and Shad Cobb on fiddle. The band’s music explores Scott’s Kentucky roots and features string-based instrumentation\, with a sound that’s rooted in bluegrass and folk. Scott has collaborated with other accomplished musicians such as Steve Earle\, Sam Bush\, Emmylou Harris\, John Cowan\, Kate Rusby\, Jimmie Dale Gilmore\, Mary Gauthier\, Dan Tyminski\, and many others. He tours regularly with his own band and as a member of Steve Earle’s Bluegrass Dukes.  \n\n\n\n\n\n\n\n\n\n\n\n\n\n\n\n\n\n\n\n\n\nRob Ickes is a San Francisco Bay Area native and world-renowned dobro player known for his innovative style and mastery of the instrument. Inspired at thirteen by dobro legend Mike Auldridge\, he began a lifelong musical journey that led him to Nashville\, where he co-founded the bluegrass band Blue Highway in 1994. Ickes has earned a record-setting fifteen International Bluegrass Music Association Dobro Player of the Year awards and contributed to Grammy-winning albums. After leaving Blue Highway in 2015\, he teamed up with Trey Hensley\, earning a Grammy nomination for their 2016 debut\, Before the Sun Goes Down. \n\n\n\n\n\n\n\n\n\n\n\n\n\n\n\n\n\n\n\n\n\n\nPartial support provided by Bernard Williams & Company\, LLC
URL:https://www.savannahmusicfestival.org/event/noon30-darrell-scott-rob-ickes/
LOCATION:Ships of the Sea\, 41 Martin Luther King Jr Blvd\, Savannah\, GA\, 31401\, United States
CATEGORIES:American Roots,Explorer Pass,Family-Friendly,General Admission,Wristband Eligible
ATTACH;FMTTYPE=image/png:https://www.savannahmusicfestival.org/wp-content/uploads/2025/11/Darrell-Scott.png
END:VEVENT
BEGIN:VEVENT
DTSTART;TZID=America/New_York:20260403T170000
DTEND;TZID=America/New_York:20260403T170000
DTSTAMP:20260420T024224
CREATED:20251123T145110Z
LAST-MODIFIED:20260314T132932Z
UID:10000106-1775235600-1775235600@www.savannahmusicfestival.org
SUMMARY:Le Vent du Nord / Breabach
DESCRIPTION:Le Vent du Nord is an award-winning\, internationally acclaimed band at the forefront of Québec’s vibrant Francophone folk scene. Blending traditional roots with original compositions\, their powerful\, rhythm-driven sound draws from Celtic influences and diverse global traditions. Since their debut in 2002\, they’ve performed over 2\,200 concerts across four continents\, released 12 albums\, and earned numerous honors\, including two Junos\, a Félix\, a Grand Prix du Disque Charles Cros\, and a Canadian Folk Music Award. Renowned for their dynamic live performances and inventive collaborations with artists like The Chieftains\, Breabach\, and Constantinople\, the five musicians continually redefine folk music\, fusing tradition with contemporary flair to create a sound that is both timeless and boldly modern. This is their second SMF appearance\, following a 2017 debut. \n\n\n\n\n\n\n\n\n\n\n\n\n\n\n\n\n\n\n\n\n\nBreabach are one of Scotland’s most dynamic and inventive contemporary folk bands\, blending deep Highland and Island traditions with Glasgow’s vibrant creative energy. Over the course of 17 years\, they’ve released seven acclaimed albums\, toured globally\, and earned numerous accolades\, including five Scots Trad Music Awards and BBC Folk Award nominations. Renowned for their collaborations with international artists such as Le Vent du Nord and Moana and the Tribe\, Breabach continue to evolve through innovative projects like Dùsgadh\, their award-winning film collaboration. Featuring Megan Henderson\, James Lindsay\, Calum MacCrimmon\, Conal McDonagh\, and Ewan Robertson\, the band balances respect for their roots with bold\, forward-thinking artistry that redefines modern Scottish folk music. This is Braebach’s SMF debut. \n\n\n\n\n\n\n\n\n\n\n\n\n\n\n\n\n\n\n\n\n\n\nThis performance is sponsored by Joseph & Susan Dockman and Rhegan White-Clemm & Timothy ClemmThis performance is sponsored in part by Savannah/Hilton Head International Airport
URL:https://www.savannahmusicfestival.org/event/le-vent-du-nord-braebach/
LOCATION:Kehoe Iron Works\, 660 E Broughton St\, Savannah\, ga\, 31401\, United States
CATEGORIES:Dancing / Standing,Explorer Pass,General Admission,Global Roots,Wristband Eligible
ATTACH;FMTTYPE=image/png:https://www.savannahmusicfestival.org/wp-content/uploads/2025/09/LVDN-x-Breabach.png
END:VEVENT
BEGIN:VEVENT
DTSTART;TZID=America/New_York:20260403T180000
DTEND;TZID=America/New_York:20260403T180000
DTSTAMP:20260420T024224
CREATED:20251123T145110Z
LAST-MODIFIED:20260314T132647Z
UID:10000135-1775239200-1775239200@www.savannahmusicfestival.org
SUMMARY:Maxim Lando\, piano
DESCRIPTION:American pianist Maxim Lando was lauded by The New York Times for his “brilliance and infectious exuberance.” He first made international headlines performing together with Lang Lang\, Chick Corea\, and The Philadelphia Orchestra led by Yannick Nézet-Séguin at Carnegie Hall’s 2017 Opening Night Gala. Since then\, he has performed with major orchestras around the world\, including the Cleveland Orchestra\, Pittsburgh Symphony\, Toronto Symphony\, Israel Philharmonic\, Zurich Chamber Orchestra\, and over 60 others across North America and Europe. He partners frequently with Daniel Hope and has collaborated with Lynn Harrell\, Julian Rachlin\, and the Danish String Quartet\, among others. Lando is a Laureate of the Artemisia Foundation\, an alumnus of the Lang Lang International Music Foundation\, and studies with long-time mentor Hung-Kuan Chen at The Juilliard School. This is his SMF debut.  \n\n\n\n\nThis performance is sponsored by Jackie & Stephen Rabinowitz and Ron & Susan WhitakerPiano by Steinway & Sons
URL:https://www.savannahmusicfestival.org/event/maxim-lando-piano/
LOCATION:Neises Auditorium at Telfair’s Jepson Center\, 207 W York St\, Savannah\, Georgia\, 31401
CATEGORIES:Classical,Explorer Pass,General Admission,Wristband Eligible
ATTACH;FMTTYPE=image/jpeg:https://www.savannahmusicfestival.org/wp-content/uploads/2025/11/00bc715a_Maxim-Lando-credit-Chris-McGuire-2-Large-copy.jpeg
END:VEVENT
BEGIN:VEVENT
DTSTART;TZID=America/New_York:20260403T190000
DTEND;TZID=America/New_York:20260403T190000
DTSTAMP:20260420T024224
CREATED:20251123T145110Z
LAST-MODIFIED:20260314T132552Z
UID:10000136-1775242800-1775242800@www.savannahmusicfestival.org
SUMMARY:Saha Gnawa
DESCRIPTION:Co-led by Maâlem Hassan Ben Jaafer and Daniel Freedman\, the critically-acclaimed ensemble Saha Gnawa unites the founders of Innov Gnawa with leading figures from New York City’s jazz and contemporary music scenes to reimagine modern Gnawa music. Often referred to as “Sufi Blues\,” Gnawa is rooted in Morocco’s ancient history. Over centuries\, infectious rhythms and polytheistic spiritual beliefs originating from West African slaves integrated with Islam and the indigenous culture of Morocco\, giving birth to a hybrid spiritual sect and musical community. The lyrics of Gnawa songs are prayers invoking saints and spirits for freedom and liberation. In a recent five-star album review\, Songlines noted: “Whereas previous Gnawa-jazz fusions have seemed to ruminate on concepts of ancientness\, this project instead revels in taking listeners on a voyage to the sound of a future New York\, a future Essaouira\, and a future of inspired imaginations from nowhere-in-particular.” \n\n\n\n\nThis performance is sponsored in part by Mr. & Mrs. John Tucker
URL:https://www.savannahmusicfestival.org/event/saha-gnawa/
LOCATION:Ships of the Sea\, 41 Martin Luther King Jr Blvd\, Savannah\, GA\, 31401\, United States
CATEGORIES:Explorer Pass,General Admission,Global Roots,Wristband Eligible
ATTACH;FMTTYPE=image/jpeg:https://www.savannahmusicfestival.org/wp-content/uploads/2025/11/saha-gnawa-group-1.jpg
END:VEVENT
BEGIN:VEVENT
DTSTART;TZID=America/New_York:20260403T200000
DTEND;TZID=America/New_York:20260403T200000
DTSTAMP:20260420T024224
CREATED:20251123T145110Z
LAST-MODIFIED:20260314T132809Z
UID:10000105-1775246400-1775246400@www.savannahmusicfestival.org
SUMMARY:Le Vent du Nord / Breabach
DESCRIPTION:Le Vent du Nord is an award-winning\, internationally acclaimed band at the forefront of Québec’s vibrant Francophone folk scene. Blending traditional roots with original compositions\, their powerful\, rhythm-driven sound draws from Celtic influences and diverse global traditions. Since their debut in 2002\, they’ve performed over 2\,200 concerts across four continents\, released 12 albums\, and earned numerous honors\, including two Junos\, a Félix\, a Grand Prix du Disque Charles Cros\, and a Canadian Folk Music Award. Renowned for their dynamic live performances and inventive collaborations with artists like The Chieftains\, Breabach\, and Constantinople\, the five musicians continually redefine folk music\, fusing tradition with contemporary flair to create a sound that is both timeless and boldly modern. This is their second SMF appearance\, following a 2017 debut. \n\n\n\n\n\n\n\n\n\n\n\n\n\n\n\n\n\n\n\n\n\nBreabach are one of Scotland’s most dynamic and inventive contemporary folk bands\, blending deep Highland and Island traditions with Glasgow’s vibrant creative energy. Over the course of 17 years\, they’ve released seven acclaimed albums\, toured globally\, and earned numerous accolades\, including five Scots Trad Music Awards and BBC Folk Award nominations. Renowned for their collaborations with international artists such as Le Vent du Nord and Moana and the Tribe\, Breabach continue to evolve through innovative projects like Dùsgadh\, their award-winning film collaboration. Featuring Megan Henderson\, James Lindsay\, Calum MacCrimmon\, Conal McDonagh\, and Ewan Robertson\, the band balances respect for their roots with bold\, forward-thinking artistry that redefines modern Scottish folk music. This is Braebach’s SMF debut. \n\n\n\n\n\n\n\n\n\n\n\n\n\n\n\n\n\n\n\n\n\n\nThis performance is sponsored by Joseph & Susan Dockman and Rhegan White-Clemm & Timothy ClemmThis performance is sponsored in part by Savannah/Hilton Head International Airport
URL:https://www.savannahmusicfestival.org/event/le-vent-du-nord-braebach-2/
LOCATION:Kehoe Iron Works\, 660 E Broughton St\, Savannah\, ga\, 31401\, United States
CATEGORIES:Dancing / Standing,Explorer Pass,General Admission,Global Roots,Wristband Eligible
ATTACH;FMTTYPE=image/png:https://www.savannahmusicfestival.org/wp-content/uploads/2025/09/LVDN-x-Breabach.png
END:VEVENT
END:VCALENDAR