BEGIN:VCALENDAR
VERSION:2.0
PRODID:-//Savannah Music Festival - ECPv6.15.13.1//NONSGML v1.0//EN
CALSCALE:GREGORIAN
METHOD:PUBLISH
X-WR-CALNAME:Savannah Music Festival
X-ORIGINAL-URL:https://www.savannahmusicfestival.org
X-WR-CALDESC:Events for Savannah Music Festival
REFRESH-INTERVAL;VALUE=DURATION:PT1H
X-Robots-Tag:noindex
X-PUBLISHED-TTL:PT1H
BEGIN:VTIMEZONE
TZID:America/New_York
BEGIN:DAYLIGHT
TZOFFSETFROM:-0500
TZOFFSETTO:-0400
TZNAME:EDT
DTSTART:20240310T070000
END:DAYLIGHT
BEGIN:STANDARD
TZOFFSETFROM:-0400
TZOFFSETTO:-0500
TZNAME:EST
DTSTART:20241103T060000
END:STANDARD
BEGIN:DAYLIGHT
TZOFFSETFROM:-0500
TZOFFSETTO:-0400
TZNAME:EDT
DTSTART:20250309T070000
END:DAYLIGHT
BEGIN:STANDARD
TZOFFSETFROM:-0400
TZOFFSETTO:-0500
TZNAME:EST
DTSTART:20251102T060000
END:STANDARD
BEGIN:DAYLIGHT
TZOFFSETFROM:-0500
TZOFFSETTO:-0400
TZNAME:EDT
DTSTART:20260308T070000
END:DAYLIGHT
BEGIN:STANDARD
TZOFFSETFROM:-0400
TZOFFSETTO:-0500
TZNAME:EST
DTSTART:20261101T060000
END:STANDARD
END:VTIMEZONE
BEGIN:VEVENT
DTSTART;TZID=America/New_York:20250403T180000
DTEND;TZID=America/New_York:20250403T191500
DTSTAMP:20260422T222132
CREATED:20241122T151201Z
LAST-MODIFIED:20250306T175149Z
UID:10000053-1743703200-1743707700@www.savannahmusicfestival.org
SUMMARY:American Opera Icon
DESCRIPTION:Celebrating Sherrill Milnes on the 60th anniversary of his Metropolitan Opera Debut\n\n\n\n\n\n\n\nJoin American baritone Sherrill Milnes\, who shares stories about the debut that launched him into international stardom and his life as the most recorded American opera singer of his time. Through exciting live performances from Milnes’ colleagues and mentees\, along with special video presentations\, see a storied opera career through the eyes of a living legend. \n\n\n\nPresented in partnership with Savannah VOICE Festival \n\n\n\n\n\n\n\n\n\n\n\n\n\n\n\n\n\n\nPerformances in District Live are made possible through support from Plant Riverside District.This performance is sponsored by Visit SavannahThis performance is sponsored in part by Margie & B.H. Levy\, Jr. and Larry Pike Family Charitable FundPartial support provided by Toby W. HollenbergPiano by Steinway & Sons
URL:https://www.savannahmusicfestival.org/event/sherrill-milnes-american-opera-icon/
CATEGORIES:Classical,General Admission
ATTACH;FMTTYPE=image/jpeg:https://www.savannahmusicfestival.org/wp-content/uploads/2024/11/AmericanOperaIcon.jpg
END:VEVENT
END:VCALENDAR